BEGIN:VCALENDAR
VERSION:2.0
PRODID:-//The UK Integrated Quantum Networks Hub - ECPv6.15.17.1//NONSGML v1.0//EN
CALSCALE:GREGORIAN
METHOD:PUBLISH
X-WR-CALNAME:The UK Integrated Quantum Networks Hub
X-ORIGINAL-URL:https://iqnhub.org
X-WR-CALDESC:Events for The UK Integrated Quantum Networks Hub
REFRESH-INTERVAL;VALUE=DURATION:PT1H
X-Robots-Tag:noindex
X-PUBLISHED-TTL:PT1H
BEGIN:VTIMEZONE
TZID:Europe/London
BEGIN:DAYLIGHT
TZOFFSETFROM:+0000
TZOFFSETTO:+0100
TZNAME:BST
DTSTART:20240331T010000
END:DAYLIGHT
BEGIN:STANDARD
TZOFFSETFROM:+0100
TZOFFSETTO:+0000
TZNAME:GMT
DTSTART:20241027T010000
END:STANDARD
BEGIN:DAYLIGHT
TZOFFSETFROM:+0000
TZOFFSETTO:+0100
TZNAME:BST
DTSTART:20250330T010000
END:DAYLIGHT
BEGIN:STANDARD
TZOFFSETFROM:+0100
TZOFFSETTO:+0000
TZNAME:GMT
DTSTART:20251026T010000
END:STANDARD
BEGIN:DAYLIGHT
TZOFFSETFROM:+0000
TZOFFSETTO:+0100
TZNAME:BST
DTSTART:20260329T010000
END:DAYLIGHT
BEGIN:STANDARD
TZOFFSETFROM:+0100
TZOFFSETTO:+0000
TZNAME:GMT
DTSTART:20261025T010000
END:STANDARD
BEGIN:DAYLIGHT
TZOFFSETFROM:+0000
TZOFFSETTO:+0100
TZNAME:BST
DTSTART:20270328T010000
END:DAYLIGHT
BEGIN:STANDARD
TZOFFSETFROM:+0100
TZOFFSETTO:+0000
TZNAME:GMT
DTSTART:20271031T010000
END:STANDARD
END:VTIMEZONE
BEGIN:VEVENT
DTSTART;VALUE=DATE:20260625
DTEND;VALUE=DATE:20260628
DTSTAMP:20260419T144303
CREATED:20251125T145234Z
LAST-MODIFIED:20260211T155552Z
UID:10000077-1782363600-1782536399@iqnhub.org
SUMMARY:Quantum.Tech World 2026
DESCRIPTION:The future is quantum – and it’s happening now.Step into a world where quantum\, AI\, and HPC collide to redefine what’s possible. Breakthroughs aren’t just happening – they’re being deployed. From national security to healthcare\, finance\, climate\, and logistics\, the technologies shaping tomorrow are here today. \nJoin 1000+ innovators\, leaders\, and decision-makers from 40+ countries as they push the boundaries of science\, strategy\, and industry. Explore cutting-edge research\, forge game-changing partnerships\, and gain the insights to act where it matters most. \nQuantum.Tech World isn’t just an event – it’s a launchpad. A place where ideas spark innovation\, collaborations ignite impact\, and the next era of technology comes to life. Your front-row seat to the future starts here.
URL:https://iqnhub.org/event/quantum-tech-2026/
LOCATION:Encore Boston Harbor Hotel\, 1 Broadway\, Everett\, MA\, 02149\, United States
CATEGORIES:Conference
ATTACH;FMTTYPE=image/png:https://iqnhub.org/wp-content/uploads/2025/12/Quantum-World-1920x1080-1.png
END:VEVENT
BEGIN:VEVENT
DTSTART;VALUE=DATE:20260512
DTEND;VALUE=DATE:20260514
DTSTAMP:20260419T144303
CREATED:20251211T134507Z
LAST-MODIFIED:20260211T155433Z
UID:10000084-1778544000-1778716799@iqnhub.org
SUMMARY:QNetworks 2026
DESCRIPTION:QNetworks is a two-day international workshop organised by the Integrated Quantum Networks (IQN) Hub\, the UK’s flagship national programme for quantum networks research. QNetworks invites thought leaders from similar flagship R&D initiatives across the world and brings together key governmental and industry voices to discuss the challenges\, solutions\, and partnerships required to deliver the next generation of quantum networks.  \nThis year’s event will take place in person at Bristol on 12-13 May 2026\, and will be free to attend thanks to support from the Engineering and Physical Science Research Council (EPSRC).  \nSessions will cover recent developments on quantum memories; integrated photonics for quantum networking\, enabling technologies and field trials; the role of entanglement; post-quantum cryptography; quantum communications via satellite; networked quantum systems for distributed sensing and computing; and more. 
URL:https://iqnhub.org/event/qnetworks-2026/
LOCATION:Bristol Aquarium\, Anchor Road\, Bristol\, BS1 5TT\, United Kingdom
CATEGORIES:Conference
ATTACH;FMTTYPE=image/png:https://iqnhub.org/wp-content/uploads/2025/12/QNetworks-1920x1080-1.png
END:VEVENT
BEGIN:VEVENT
DTSTART;VALUE=DATE:20251203
DTEND;VALUE=DATE:20251205
DTSTAMP:20260419T144303
CREATED:20250818T094105Z
LAST-MODIFIED:20251031T100820Z
UID:10000028-1764720000-1764892799@iqnhub.org
SUMMARY:Space-Comm Expo Scotland
DESCRIPTION:Space-Comm Scotland will attract visitors from all sectors of the space ecosystem\, including space agencies\, government\, commercial businesses and operators (civil and defence)\, contractors and subcontractors\, military and defence\, national security and intelligence\, digital and technology organisation\, regulators\, research and development institutions\, space start-ups\, venture capitalists\, educational institutes and academia\, spaceports\, space launch operators\, commercial spaceflight operators and media. \nThe IQN Hub will have a stand at this exhibition so please come along.
URL:https://iqnhub.org/event/space-comm-expo-scotland/
LOCATION:SEC Centre\, Exhibition Way\, Glasgow\, G3 8YW\, United Kingdom
CATEGORIES:Industry Event
ATTACH;FMTTYPE=image/webp:https://iqnhub.org/wp-content/uploads/2025/08/Space-Comm-Expo-graphic.jpg.webp
END:VEVENT
BEGIN:VEVENT
DTSTART;VALUE=DATE:20251107
DTEND;VALUE=DATE:20251108
DTSTAMP:20260419T144303
CREATED:20250815T110354Z
LAST-MODIFIED:20251031T101652Z
UID:10000021-1762473600-1762559999@iqnhub.org
SUMMARY:National Quantum Showcase 2025
DESCRIPTION:World Quantum Day is an international initiative promoting awareness of the vast capabilities of quantum science and technology. The UK quantum sector represents the second largest community of quantum companies in the world and support for the sector helps to bring forward innovative technologies\, creating economic growth. \nThe potential of quantum technologies to have impact in our daily lives is growing. The UK National Quantum Showcase will explore these potentials and provide a platform for innovators to demonstrate the latest advances in quantum
URL:https://iqnhub.org/event/national-quantum-showcase-2025/
LOCATION:Business Design Centre\, 52 Upper Street\, London\, N1 0QH\, United Kingdom
CATEGORIES:Industry Event
ATTACH;FMTTYPE=image/jpeg:https://iqnhub.org/wp-content/uploads/2025/09/Image-for-29-Aug-post-e1761905807121.jpg
END:VEVENT
END:VCALENDAR