BEGIN:VCALENDAR
VERSION:2.0
PRODID:-//The UK Integrated Quantum Networks Hub - ECPv6.15.17.1//NONSGML v1.0//EN
CALSCALE:GREGORIAN
METHOD:PUBLISH
X-ORIGINAL-URL:https://iqnhub.org
X-WR-CALDESC:Events for The UK Integrated Quantum Networks Hub
REFRESH-INTERVAL;VALUE=DURATION:PT1H
X-Robots-Tag:noindex
X-PUBLISHED-TTL:PT1H
BEGIN:VTIMEZONE
TZID:Europe/London
BEGIN:DAYLIGHT
TZOFFSETFROM:+0000
TZOFFSETTO:+0100
TZNAME:BST
DTSTART:20250330T010000
END:DAYLIGHT
BEGIN:STANDARD
TZOFFSETFROM:+0100
TZOFFSETTO:+0000
TZNAME:GMT
DTSTART:20251026T010000
END:STANDARD
BEGIN:DAYLIGHT
TZOFFSETFROM:+0000
TZOFFSETTO:+0100
TZNAME:BST
DTSTART:20260329T010000
END:DAYLIGHT
BEGIN:STANDARD
TZOFFSETFROM:+0100
TZOFFSETTO:+0000
TZNAME:GMT
DTSTART:20261025T010000
END:STANDARD
BEGIN:DAYLIGHT
TZOFFSETFROM:+0000
TZOFFSETTO:+0100
TZNAME:BST
DTSTART:20270328T010000
END:DAYLIGHT
BEGIN:STANDARD
TZOFFSETFROM:+0100
TZOFFSETTO:+0000
TZNAME:GMT
DTSTART:20271031T010000
END:STANDARD
END:VTIMEZONE
BEGIN:VEVENT
DTSTART;VALUE=DATE:20260906
DTEND;VALUE=DATE:20260912
DTSTAMP:20260419T231609
CREATED:20260212T151735Z
LAST-MODIFIED:20260212T151735Z
UID:10000128-1788652800-1789171199@iqnhub.org
SUMMARY:The Applied Superconductivity Conference (ASC 2026)
DESCRIPTION:ASC 2026 Conference Chair and ASEF President Welcome \nWelcome to ASC 2026 and welcome to Pittsburgh\, Pennsylvania! On behalf of our organizing team\, we are excited to invite you to join us at the Pittsburgh Convention Center for the 2026 ASC Conference to be held in the fall of 2026. Pittsburgh promises to be a wonderful venue for our conference with ongoing planning for exciting technical and ELEVATE programs\, numerous restaurants loaded with tasty international food\, welcoming hotels and housing opportunities\, and sights to explore. \n– Judy Wu\, ASC 2026 Conference Chair\n– Art Lichtenberger\, ASEF President
URL:https://iqnhub.org/event/the-applied-superconductivity-conference-asc-2026/
LOCATION:David L. Lawrence Convention Center\, 1000 Fort Duquesne Boulevard\, Pittsburgh\, PA\, 15222\, United States
CATEGORIES:Conference
END:VEVENT
END:VCALENDAR