BEGIN:VCALENDAR
VERSION:2.0
PRODID:-//The UK Integrated Quantum Networks Hub - ECPv6.15.17.1//NONSGML v1.0//EN
CALSCALE:GREGORIAN
METHOD:PUBLISH
X-WR-CALNAME:The UK Integrated Quantum Networks Hub
X-ORIGINAL-URL:https://iqnhub.org
X-WR-CALDESC:Events for The UK Integrated Quantum Networks Hub
REFRESH-INTERVAL;VALUE=DURATION:PT1H
X-Robots-Tag:noindex
X-PUBLISHED-TTL:PT1H
BEGIN:VTIMEZONE
TZID:Europe/London
BEGIN:DAYLIGHT
TZOFFSETFROM:+0000
TZOFFSETTO:+0100
TZNAME:BST
DTSTART:20250330T010000
END:DAYLIGHT
BEGIN:STANDARD
TZOFFSETFROM:+0100
TZOFFSETTO:+0000
TZNAME:GMT
DTSTART:20251026T010000
END:STANDARD
BEGIN:DAYLIGHT
TZOFFSETFROM:+0000
TZOFFSETTO:+0100
TZNAME:BST
DTSTART:20260329T010000
END:DAYLIGHT
BEGIN:STANDARD
TZOFFSETFROM:+0100
TZOFFSETTO:+0000
TZNAME:GMT
DTSTART:20261025T010000
END:STANDARD
BEGIN:DAYLIGHT
TZOFFSETFROM:+0000
TZOFFSETTO:+0100
TZNAME:BST
DTSTART:20270328T010000
END:DAYLIGHT
BEGIN:STANDARD
TZOFFSETFROM:+0100
TZOFFSETTO:+0000
TZNAME:GMT
DTSTART:20271031T010000
END:STANDARD
END:VTIMEZONE
BEGIN:VEVENT
DTSTART;VALUE=DATE:20260420
DTEND;VALUE=DATE:20260425
DTSTAMP:20260419T183439
CREATED:20260130T102555Z
LAST-MODIFIED:20260130T102555Z
UID:10000122-1776643200-1777075199@iqnhub.org
SUMMARY:Optics and Photonics International Congress (OPIC)
DESCRIPTION:The Optics and Photonics International Congress (OPIC) is co-organized with the Optics and Photonics International Exhibition (OPIE)\, bringing together researchers and developers from around the world to discuss the science and industry of optics and photonics. Held annually\, its purpose is to showcase state-of-the-art achievements and disseminate guidelines for a future society enabled by science and technology. \nSince its inception in 2012\, OPIC has been held every April at Pacifico Yokohama. It has established itself as a significant international conference originating in Japan\, with new Specialized International Conferences added each year and an increasing number of participants. OPIC currently comprises Specialized International Conferences covering a broad range of fields: lasers\, biomedicine\, nanophotonics\, metasurfaces\, optical measurement\, optical manipulation\, x-ray optics\, THz\, IoT\, display and lighting\, high-energy density science\, power transmission\, space and earth science\, and photonics for agriculture. \nOPIC has evolved into one of the largest international conference events\, providing an efficient forum for participants to exchange the latest advances in the science and technology of optics\, photonics\, and their applications. By hosting various optics-related technical conferences in one location based on common elemental technologies and sharing supply and demand across various fields\, OPIC accelerates the development and application of these technologies \nThe Congress had been growing steadily up to 2019 in terms of conferences\, papers\, participants\, and participating countries. Having overcome the difficult conditions faced in OPIC2020 and 2021 due to the impact of COVID-19\, OPIC returned to a fully in-person format in 2023. At OPIC2025\, several Specialized International Conferences were not held annually or were held overseas\, resulting in a slight decrease in the number of participating specialized international conferences compared to OPIC2024\, but two new conferences related to metasurfaces and photonics for agriculture were added. OPIC2025 featured 14 specialized international conferences\, with a total of 1\,152 participants. Of these\, participants from 43 countries\, accounting for approximately 40%\, were from overseas. This ratio of international participants is significantly higher than the level of other international conferences held in Japan\, and it can be said that OPIC\, held in Japan\, has once again gained high recognition as a place where researchers gather. \nOPIC 2026 is scheduled to feature a record 18 specialized international conferences. We aim to deepen collaboration with SPIE\, strengthen exchanges between industry and academia\, and host an international conference event that leads the way in promoting photonics technology and the photonics industry. We anticipate all participants will have meaningful in-person discussions with colleagues to foster fruitful collaboration. We look forward to seeing you all in Yokohama!
URL:https://iqnhub.org/event/optics-and-photonics-international-congress-opic/
LOCATION:PACIFICO Yokohama\, 1-1-1 Minato Mirai\, Yokohama\, Nishi-ku\, 220-0012\, Japan
CATEGORIES:Industry Event
END:VEVENT
END:VCALENDAR