BEGIN:VCALENDAR
VERSION:2.0
PRODID:-//The UK Integrated Quantum Networks Hub - ECPv6.15.17.1//NONSGML v1.0//EN
CALSCALE:GREGORIAN
METHOD:PUBLISH
X-WR-CALNAME:The UK Integrated Quantum Networks Hub
X-ORIGINAL-URL:https://iqnhub.org
X-WR-CALDESC:Events for The UK Integrated Quantum Networks Hub
REFRESH-INTERVAL;VALUE=DURATION:PT1H
X-Robots-Tag:noindex
X-PUBLISHED-TTL:PT1H
BEGIN:VTIMEZONE
TZID:Europe/London
BEGIN:DAYLIGHT
TZOFFSETFROM:+0000
TZOFFSETTO:+0100
TZNAME:BST
DTSTART:20250330T010000
END:DAYLIGHT
BEGIN:STANDARD
TZOFFSETFROM:+0100
TZOFFSETTO:+0000
TZNAME:GMT
DTSTART:20251026T010000
END:STANDARD
BEGIN:DAYLIGHT
TZOFFSETFROM:+0000
TZOFFSETTO:+0100
TZNAME:BST
DTSTART:20260329T010000
END:DAYLIGHT
BEGIN:STANDARD
TZOFFSETFROM:+0100
TZOFFSETTO:+0000
TZNAME:GMT
DTSTART:20261025T010000
END:STANDARD
BEGIN:DAYLIGHT
TZOFFSETFROM:+0000
TZOFFSETTO:+0100
TZNAME:BST
DTSTART:20270328T010000
END:DAYLIGHT
BEGIN:STANDARD
TZOFFSETFROM:+0100
TZOFFSETTO:+0000
TZNAME:GMT
DTSTART:20271031T010000
END:STANDARD
END:VTIMEZONE
BEGIN:VEVENT
DTSTART;VALUE=DATE:20260324
DTEND;VALUE=DATE:20260328
DTSTAMP:20260420T034603
CREATED:20260223T142033Z
LAST-MODIFIED:20260223T142033Z
UID:10000135-1774310400-1774655999@iqnhub.org
SUMMARY:SU2P 2026 Conference
DESCRIPTION:We are delighted to announce the Scotland–California Quantum & Photonics Partnership (SU2P) conference\, taking place 24-27 March at the University of Glasgow. This four-day symposium will include an Innovation Forum (24 March)\, bringing together global leaders advancing frontier quantum systems\, integrated photonics\, and deep‑tech commercialization across industry\, academia\, and government. This will be followed by a two‑day Photonics Symposium (25–26 March) and a Quantum Research Conference (27 March).
URL:https://iqnhub.org/event/su2p-2026-conference/
LOCATION:Advanced Research Centre\, 11 Chapel Lane\, Glasgow\, G11 6EW\, United Kingdom
CATEGORIES:Conference
END:VEVENT
END:VCALENDAR