BEGIN:VCALENDAR
VERSION:2.0
PRODID:-//The UK Integrated Quantum Networks Hub - ECPv6.15.17.1//NONSGML v1.0//EN
CALSCALE:GREGORIAN
METHOD:PUBLISH
X-WR-CALNAME:The UK Integrated Quantum Networks Hub
X-ORIGINAL-URL:https://iqnhub.org
X-WR-CALDESC:Events for The UK Integrated Quantum Networks Hub
REFRESH-INTERVAL;VALUE=DURATION:PT1H
X-Robots-Tag:noindex
X-PUBLISHED-TTL:PT1H
BEGIN:VTIMEZONE
TZID:Europe/London
BEGIN:DAYLIGHT
TZOFFSETFROM:+0000
TZOFFSETTO:+0100
TZNAME:BST
DTSTART:20250330T010000
END:DAYLIGHT
BEGIN:STANDARD
TZOFFSETFROM:+0100
TZOFFSETTO:+0000
TZNAME:GMT
DTSTART:20251026T010000
END:STANDARD
BEGIN:DAYLIGHT
TZOFFSETFROM:+0000
TZOFFSETTO:+0100
TZNAME:BST
DTSTART:20260329T010000
END:DAYLIGHT
BEGIN:STANDARD
TZOFFSETFROM:+0100
TZOFFSETTO:+0000
TZNAME:GMT
DTSTART:20261025T010000
END:STANDARD
BEGIN:DAYLIGHT
TZOFFSETFROM:+0000
TZOFFSETTO:+0100
TZNAME:BST
DTSTART:20270328T010000
END:DAYLIGHT
BEGIN:STANDARD
TZOFFSETFROM:+0100
TZOFFSETTO:+0000
TZNAME:GMT
DTSTART:20271031T010000
END:STANDARD
END:VTIMEZONE
BEGIN:VEVENT
DTSTART;VALUE=DATE:20260331
DTEND;VALUE=DATE:20260403
DTSTAMP:20260419T195402
CREATED:20260212T095049Z
LAST-MODIFIED:20260212T095049Z
UID:10000124-1774915200-1775174399@iqnhub.org
SUMMARY:Semiconductor and Integrated OptoElectronics (SIOE) Conference
DESCRIPTION:SIOE endeavours to create a relaxed informal setting to discuss semiconductor opto-electronics research. The conference will be held at Cardiff University from 31st of March to the 2nd of April with the conference banquet scheduled for the 1st of April. \nWe welcome contributions on the following topics: \n\nGrowth and fabrication\, including materials and devices\nSolar cells / photovoltaics\nMid-infra-red semiconductor opto-electronics\nMicro-cavity and photonic band-gap effects\nGaN based materials and devices\nTheory and numerical simulation of semiconductor optoelectronics\nOptical detectors\, modulations\, amplifiers and switches\nAll optical and opto-electronic integrated circuits\nIntegration of optical and electrical functions\nHybrid\, heterogeneous and epitaxial integration
URL:https://iqnhub.org/event/semiconductor-and-integrated-optoelectronics-sioe-conference/
LOCATION:Cardiff University\, Centre of Student Life\, Park Place\, Cardiff\, Cathays\, CF10 3BB\, United Kingdom
CATEGORIES:Conference
END:VEVENT
END:VCALENDAR