BEGIN:VCALENDAR
VERSION:2.0
PRODID:-//The UK Integrated Quantum Networks Hub - ECPv6.15.17.1//NONSGML v1.0//EN
CALSCALE:GREGORIAN
METHOD:PUBLISH
X-WR-CALNAME:The UK Integrated Quantum Networks Hub
X-ORIGINAL-URL:https://iqnhub.org
X-WR-CALDESC:Events for The UK Integrated Quantum Networks Hub
REFRESH-INTERVAL;VALUE=DURATION:PT1H
X-Robots-Tag:noindex
X-PUBLISHED-TTL:PT1H
BEGIN:VTIMEZONE
TZID:Europe/London
BEGIN:DAYLIGHT
TZOFFSETFROM:+0000
TZOFFSETTO:+0100
TZNAME:BST
DTSTART:20250330T010000
END:DAYLIGHT
BEGIN:STANDARD
TZOFFSETFROM:+0100
TZOFFSETTO:+0000
TZNAME:GMT
DTSTART:20251026T010000
END:STANDARD
BEGIN:DAYLIGHT
TZOFFSETFROM:+0000
TZOFFSETTO:+0100
TZNAME:BST
DTSTART:20260329T010000
END:DAYLIGHT
BEGIN:STANDARD
TZOFFSETFROM:+0100
TZOFFSETTO:+0000
TZNAME:GMT
DTSTART:20261025T010000
END:STANDARD
BEGIN:DAYLIGHT
TZOFFSETFROM:+0000
TZOFFSETTO:+0100
TZNAME:BST
DTSTART:20270328T010000
END:DAYLIGHT
BEGIN:STANDARD
TZOFFSETFROM:+0100
TZOFFSETTO:+0000
TZNAME:GMT
DTSTART:20271031T010000
END:STANDARD
END:VTIMEZONE
BEGIN:VEVENT
DTSTART;VALUE=DATE:20260805
DTEND;VALUE=DATE:20260808
DTSTAMP:20260419T200503
CREATED:20260212T153028Z
LAST-MODIFIED:20260212T154302Z
UID:10000131-1785888000-1786147199@iqnhub.org
SUMMARY:IEEE RAPID Conference 2026
DESCRIPTION:The IEEE RAPID conference aims to bring together government\, academia and industry in a global forum to present new fundamental basic research\, innovative technologies and build collaborations to solve critical security and defense challenges. This international conference will be broad in scope covering such areas as electromagnetics\, device physics\, optics and photonics\, algorithms\, and test and evaluation to name a few. With the breadth of topics covered\, this conference seeks to attract diverse participation and collaboration from academia\, industry\, defense and government agencies that will promote security interests with opportunities to increase technical depth and breadth as well as networking with peers. In a world where technology is rapidly changing\, collaborations and multidisciplinary work is the only way to solve research challenges and foster the next generation of scientific discovery.
URL:https://iqnhub.org/event/ieee-rapid-conference-2026/
LOCATION:Hilton Sandestin Beach Golf Resort & Spa\, 4000 Sandestin Blvd S\, Miramar Beach\, FL\, United States
CATEGORIES:Conference
END:VEVENT
END:VCALENDAR