BEGIN:VCALENDAR
VERSION:2.0
PRODID:-//The UK Integrated Quantum Networks Hub - ECPv6.15.17.1//NONSGML v1.0//EN
CALSCALE:GREGORIAN
METHOD:PUBLISH
X-ORIGINAL-URL:https://iqnhub.org
X-WR-CALDESC:Events for The UK Integrated Quantum Networks Hub
REFRESH-INTERVAL;VALUE=DURATION:PT1H
X-Robots-Tag:noindex
X-PUBLISHED-TTL:PT1H
BEGIN:VTIMEZONE
TZID:Europe/London
BEGIN:DAYLIGHT
TZOFFSETFROM:+0000
TZOFFSETTO:+0100
TZNAME:BST
DTSTART:20250330T010000
END:DAYLIGHT
BEGIN:STANDARD
TZOFFSETFROM:+0100
TZOFFSETTO:+0000
TZNAME:GMT
DTSTART:20251026T010000
END:STANDARD
BEGIN:DAYLIGHT
TZOFFSETFROM:+0000
TZOFFSETTO:+0100
TZNAME:BST
DTSTART:20260329T010000
END:DAYLIGHT
BEGIN:STANDARD
TZOFFSETFROM:+0100
TZOFFSETTO:+0000
TZNAME:GMT
DTSTART:20261025T010000
END:STANDARD
BEGIN:DAYLIGHT
TZOFFSETFROM:+0000
TZOFFSETTO:+0100
TZNAME:BST
DTSTART:20270328T010000
END:DAYLIGHT
BEGIN:STANDARD
TZOFFSETFROM:+0100
TZOFFSETTO:+0000
TZNAME:GMT
DTSTART:20271031T010000
END:STANDARD
END:VTIMEZONE
BEGIN:VEVENT
DTSTART;VALUE=DATE:20260524
DTEND;VALUE=DATE:20260529
DTSTAMP:20260419T213634
CREATED:20260212T124140Z
LAST-MODIFIED:20260212T124140Z
UID:10000126-1779580800-1780012799@iqnhub.org
SUMMARY:Compound Semiconductor Week (CSW2026)
DESCRIPTION:Welcome to CSW2026 in Kumamoto\, Japan. \nIt is a great pleasure to announce that the 2026-edition of Compound Semiconductor Week (CSW2026) will be held in Japan\, from May 24 to 28\, 2026. CSW2026 is the premier conference for science\, technology and applications of compound semiconductors. CSW will be a joint venue for the 52th International Symposium on Compound Semiconductors (ISCS) and the 37th International Conference on Indium Phosphide and Related Materials (IPRM) the premier forum for science\, technology\, and applications in all areas of compound semiconductors. With its annual coverage\, CSW is a forum for the latest development in this important field.
URL:https://iqnhub.org/event/compound-semiconductor-week-csw2026/
LOCATION:Kumamoto-Jo Hall\, 3-40\, Sakuramachi\, Chuo-ku\, Kumamoto-city\, Kumamoto\, 860-0805\, Japan
CATEGORIES:Conference
END:VEVENT
END:VCALENDAR