BEGIN:VCALENDAR
VERSION:2.0
PRODID:-//The UK Integrated Quantum Networks Hub - ECPv6.15.17.1//NONSGML v1.0//EN
CALSCALE:GREGORIAN
METHOD:PUBLISH
X-ORIGINAL-URL:https://iqnhub.org
X-WR-CALDESC:Events for The UK Integrated Quantum Networks Hub
REFRESH-INTERVAL;VALUE=DURATION:PT1H
X-Robots-Tag:noindex
X-PUBLISHED-TTL:PT1H
BEGIN:VTIMEZONE
TZID:Europe/London
BEGIN:DAYLIGHT
TZOFFSETFROM:+0000
TZOFFSETTO:+0100
TZNAME:BST
DTSTART:20250330T010000
END:DAYLIGHT
BEGIN:STANDARD
TZOFFSETFROM:+0100
TZOFFSETTO:+0000
TZNAME:GMT
DTSTART:20251026T010000
END:STANDARD
BEGIN:DAYLIGHT
TZOFFSETFROM:+0000
TZOFFSETTO:+0100
TZNAME:BST
DTSTART:20260329T010000
END:DAYLIGHT
BEGIN:STANDARD
TZOFFSETFROM:+0100
TZOFFSETTO:+0000
TZNAME:GMT
DTSTART:20261025T010000
END:STANDARD
BEGIN:DAYLIGHT
TZOFFSETFROM:+0000
TZOFFSETTO:+0100
TZNAME:BST
DTSTART:20270328T010000
END:DAYLIGHT
BEGIN:STANDARD
TZOFFSETFROM:+0100
TZOFFSETTO:+0000
TZNAME:GMT
DTSTART:20271031T010000
END:STANDARD
END:VTIMEZONE
BEGIN:VEVENT
DTSTART;VALUE=DATE:20261117
DTEND;VALUE=DATE:20261119
DTSTAMP:20260420T034838
CREATED:20260414T142151Z
LAST-MODIFIED:20260414T142151Z
UID:10000143-1794873600-1795046399@iqnhub.org
SUMMARY:World Quantum Cannes Festival
DESCRIPTION:What is the World Quantum Cannes Festival? \n\nQuantum technologies are entering a decisive phase: from research to industrialization\, from promise to scale. The challenges are immense – building global companies\, training talent\, and evangelizing new markets.\n\nIn Europe\, this momentum coincides with a new political and industrial agenda. The Quantum Program and the upcoming Quantum Act will redefine the contours of the European industry\, setting a framework to secure technological sovereignty\, mobilize investments\, and structure a competitive ecosystem capable of standing on the global stage.\n\nThe World Quantum Cannes Festival provides a unique arena for sharing experiences\, advancing concrete applications\, and addressing civilization-scale challenges. Here\, the quantum community works together to turn breakthrough science into real-world impact. The Festival is also a catalyst for action: shaping policy dialogue\, linking world champions with global investors\, building alliances across the ecosystem\, and celebrating innovation with a Startup Award backed by real funding and partnerships.
URL:https://iqnhub.org/event/world-quantum-cannes-festival/
LOCATION:Palais des Festivals and Congrès de Cannes\, 1 Boulevard de la Croisette\, Cannes\, 06400\, France
CATEGORIES:Conference
END:VEVENT
END:VCALENDAR