BEGIN:VCALENDAR
VERSION:2.0
PRODID:-//The UK Integrated Quantum Networks Hub - ECPv6.15.17.1//NONSGML v1.0//EN
CALSCALE:GREGORIAN
METHOD:PUBLISH
X-WR-CALNAME:The UK Integrated Quantum Networks Hub
X-ORIGINAL-URL:https://iqnhub.org
X-WR-CALDESC:Events for The UK Integrated Quantum Networks Hub
REFRESH-INTERVAL;VALUE=DURATION:PT1H
X-Robots-Tag:noindex
X-PUBLISHED-TTL:PT1H
BEGIN:VTIMEZONE
TZID:Europe/London
BEGIN:DAYLIGHT
TZOFFSETFROM:+0000
TZOFFSETTO:+0100
TZNAME:BST
DTSTART:20250330T010000
END:DAYLIGHT
BEGIN:STANDARD
TZOFFSETFROM:+0100
TZOFFSETTO:+0000
TZNAME:GMT
DTSTART:20251026T010000
END:STANDARD
BEGIN:DAYLIGHT
TZOFFSETFROM:+0000
TZOFFSETTO:+0100
TZNAME:BST
DTSTART:20260329T010000
END:DAYLIGHT
BEGIN:STANDARD
TZOFFSETFROM:+0100
TZOFFSETTO:+0000
TZNAME:GMT
DTSTART:20261025T010000
END:STANDARD
BEGIN:DAYLIGHT
TZOFFSETFROM:+0000
TZOFFSETTO:+0100
TZNAME:BST
DTSTART:20270328T010000
END:DAYLIGHT
BEGIN:STANDARD
TZOFFSETFROM:+0100
TZOFFSETTO:+0000
TZNAME:GMT
DTSTART:20271031T010000
END:STANDARD
END:VTIMEZONE
BEGIN:VEVENT
DTSTART;VALUE=DATE:20260727
DTEND;VALUE=DATE:20260801
DTSTAMP:20260419T200130
CREATED:20260212T115026Z
LAST-MODIFIED:20260212T115026Z
UID:10000125-1785110400-1785542399@iqnhub.org
SUMMARY:PIERS 2026
DESCRIPTION:PhotonIcs and Electromagnetics Research Symposium\, also known as Progress In Electromagnetics Research Symposium \nEach focus Session in PhotonIcs and Electromagnetics Research Symposium (also known as Progress In Electromagnetics Research Symposium) should be focused on a specific hot topic that must be timely and reflect the future trends or the latest scientific advances in the area. The leadership of the conference will select the topics of focus sessions and the responsible organizers. The organizers may adjust the title of the focus session to make it e.g. more specific/focused and should make the best effort to ensure the high quality of the session by inviting high-profile keynote speakers (30 min for each; 0-2 keynote speakers for each focus session) and excellent invited speakers (20 min for each)\, etc. Some contributed oral talks (15 min each) are encouraged\, however\, quality must be very well controlled by the organizers with a typical acceptance ratio of less than 50%. Each focus session will last for a half-day (with a coffee break) or a full-day (with a lunch break and two coffee breaks)
URL:https://iqnhub.org/event/piers-2026/
LOCATION:Suzhou Longemont Conference Center\, Shanghai\, China
CATEGORIES:Conference
END:VEVENT
END:VCALENDAR