BEGIN:VCALENDAR
VERSION:2.0
PRODID:-//The UK Integrated Quantum Networks Hub - ECPv6.15.17.1//NONSGML v1.0//EN
CALSCALE:GREGORIAN
METHOD:PUBLISH
X-ORIGINAL-URL:https://iqnhub.org
X-WR-CALDESC:Events for The UK Integrated Quantum Networks Hub
REFRESH-INTERVAL;VALUE=DURATION:PT1H
X-Robots-Tag:noindex
X-PUBLISHED-TTL:PT1H
BEGIN:VTIMEZONE
TZID:Europe/London
BEGIN:DAYLIGHT
TZOFFSETFROM:+0000
TZOFFSETTO:+0100
TZNAME:BST
DTSTART:20250330T010000
END:DAYLIGHT
BEGIN:STANDARD
TZOFFSETFROM:+0100
TZOFFSETTO:+0000
TZNAME:GMT
DTSTART:20251026T010000
END:STANDARD
BEGIN:DAYLIGHT
TZOFFSETFROM:+0000
TZOFFSETTO:+0100
TZNAME:BST
DTSTART:20260329T010000
END:DAYLIGHT
BEGIN:STANDARD
TZOFFSETFROM:+0100
TZOFFSETTO:+0000
TZNAME:GMT
DTSTART:20261025T010000
END:STANDARD
BEGIN:DAYLIGHT
TZOFFSETFROM:+0000
TZOFFSETTO:+0100
TZNAME:BST
DTSTART:20270328T010000
END:DAYLIGHT
BEGIN:STANDARD
TZOFFSETFROM:+0100
TZOFFSETTO:+0000
TZNAME:GMT
DTSTART:20271031T010000
END:STANDARD
END:VTIMEZONE
BEGIN:VEVENT
DTSTART;VALUE=DATE:20260614
DTEND;VALUE=DATE:20260618
DTSTAMP:20260419T200113
CREATED:20260212T153618Z
LAST-MODIFIED:20260212T153743Z
UID:10000132-1781395200-1781740799@iqnhub.org
SUMMARY:The 30th International Semiconductor Laser Conference (ISLC)
DESCRIPTION:We welcome you to Tampere\, Finland to join us at the 30th International Semiconductor Laser Conference (ISLC 2026)! \n\nThe ISLC has a tradition of more than 50 years of bringing together specialists in the field of semiconductor lasers\, amplifiers and LEDs. The conference is run in a single session format\, providing an opportunity to all participants for fruitful discussions and networking. In addition\, June is a great time to experience Tampere and the beautiful peace and quiet of the nature around it. \n\n\nTopics \n\n\n\n\n\nSemiconductor laser diodes\nSemiconductor optical amplifiers\nSemiconductor laser design and theory\nModulators and detectors for semiconductor lasers\nPIC-based semiconductor lasers\nSurface emitting lasers (VCSELs\, VECSELs\, and PCSELs)\nPhotonic bandgap\, Plasmonic\, Topological and nano lasers\nGrating controlled\, multi-segment and ring lasers\nWavelength and pulse-shape controlled semiconductor lasers\nQuantum cascade and interband cascade lasers\, and laser-based THz sources\nSemiconductor material growth and fabrication for semiconductor lasers\nSemiconductor lasers with novel gain materials\nQuantum dot lasers\nHigh power and high-brightness lasers\nWide-bandgap laser for UV to visible\nLight emitting diodes (LEDs) and micro-LEDs\nPackaging technologies for semiconductor laser modules\nDesign and simulation methods for semiconductor lasers\nNovel applications using semiconductor lasers (eg\, quantum and spectroscopy)
URL:https://iqnhub.org/event/the-30th-international-semiconductor-laser-conference-islc/
LOCATION:Tampere Hall\, Yliopistonkatu 55\, Tampere\, 33100\, Finland
CATEGORIES:Conference
END:VEVENT
END:VCALENDAR