BEGIN:VCALENDAR
VERSION:2.0
PRODID:-//The UK Integrated Quantum Networks Hub - ECPv6.15.17.1//NONSGML v1.0//EN
CALSCALE:GREGORIAN
METHOD:PUBLISH
X-WR-CALNAME:The UK Integrated Quantum Networks Hub
X-ORIGINAL-URL:https://iqnhub.org
X-WR-CALDESC:Events for The UK Integrated Quantum Networks Hub
REFRESH-INTERVAL;VALUE=DURATION:PT1H
X-Robots-Tag:noindex
X-PUBLISHED-TTL:PT1H
BEGIN:VTIMEZONE
TZID:Europe/London
BEGIN:DAYLIGHT
TZOFFSETFROM:+0000
TZOFFSETTO:+0100
TZNAME:BST
DTSTART:20250330T010000
END:DAYLIGHT
BEGIN:STANDARD
TZOFFSETFROM:+0100
TZOFFSETTO:+0000
TZNAME:GMT
DTSTART:20251026T010000
END:STANDARD
BEGIN:DAYLIGHT
TZOFFSETFROM:+0000
TZOFFSETTO:+0100
TZNAME:BST
DTSTART:20260329T010000
END:DAYLIGHT
BEGIN:STANDARD
TZOFFSETFROM:+0100
TZOFFSETTO:+0000
TZNAME:GMT
DTSTART:20261025T010000
END:STANDARD
BEGIN:DAYLIGHT
TZOFFSETFROM:+0000
TZOFFSETTO:+0100
TZNAME:BST
DTSTART:20270328T010000
END:DAYLIGHT
BEGIN:STANDARD
TZOFFSETFROM:+0100
TZOFFSETTO:+0000
TZNAME:GMT
DTSTART:20271031T010000
END:STANDARD
END:VTIMEZONE
BEGIN:VEVENT
DTSTART;VALUE=DATE:20260601
DTEND;VALUE=DATE:20260606
DTSTAMP:20260419T201155
CREATED:20260212T094454Z
LAST-MODIFIED:20260212T095209Z
UID:10000123-1780272000-1780703999@iqnhub.org
SUMMARY:The 17th IEEE Workshop on Low-Temperature Electronics
DESCRIPTION:The recent progress in cryogenics technologies\, along with the increasing interest in space-based communication\, gives a new light to low temperature electronics. The increasing interest in quantum technologies and nanodevices\, most of which need low temperatures\, are envisaged as the traditional area of interest of the WOLTE community. \nThis workshop series has a consistent policy of holding no parallel sessions. Therefore\, its program is comprised of single technical sessions. This gives a unique opportunity to stimulate discussions among all the participants traditionally coming from a variety of semiconductor and superconductor-related research fields. Following its tradition of receptiveness to the emerging research field\, the 17th edition of WOLTE\, along with the traditional semiconducting and superconducting low temperature electronics\, will include new topics on quantum technologies. Industrial and technological applications will receive particular attention in a dedicated and attractive exhibition area.
URL:https://iqnhub.org/event/the-17th-ieee-workshop-on-low-temperature-electronics/
LOCATION:UNA Hotels Naxos Beach Sicilia\, Via Recanati 26\, Messina\, 98035\, Italy
CATEGORIES:Conference
END:VEVENT
END:VCALENDAR